BEGIN:VCALENDAR
VERSION:2.0
PRODID:-//Tukios.com/
BEGIN:VEVENT
UID:99edfff3-3b6f-46b1-af67-2a3cc9e3556e@www.pielhop.com
DTSTAMP:20260422T205556Z
DTSTART:20260427T160000Z
DTEND:20260427T170000Z
SUMMARY:Funeral Service
DESCRIPTION:
URL:https://www.pielhop.com/obituaries/janet-buboltz
LOCATION:Trinity Ev. Lutheran Church 601 East National Avenue  Brillion 
	WI 54110
GEO:44.1672453;-88.0521058
END:VEVENT
END:VCALENDAR