BEGIN:VCALENDAR
VERSION:2.0
PRODID:-//Tukios.com/
BEGIN:VEVENT
UID:7ff325de-123a-42e1-b3b3-dbe23c6c3442@www.pielhop.com
DTSTAMP:20260422T204904Z
DTSTART:20260427T140000Z
DTEND:20260427T160000Z
SUMMARY:Visitation
DESCRIPTION:
URL:https://www.pielhop.com/obituaries/janet-buboltz
LOCATION:Trinity Ev. Lutheran Church 601 East National Avenue  Brillion 
	WI 54110
GEO:44.1672453;-88.0521058
END:VEVENT
END:VCALENDAR