BEGIN:VCALENDAR
VERSION:2.0
PRODID:-//Tukios.com/
BEGIN:VEVENT
UID:8036f9c6-0dcc-4550-b3c5-49536690eb0e@www.pielhop.com
DTSTAMP:20260425T204432Z
DTSTART:20260501T160000Z
DTEND:20260501T170000Z
SUMMARY:Memorial Service
DESCRIPTION:
URL:https://www.pielhop.com/obituaries/william-bill-herdt
LOCATION:Pielhop Funeral Home 215 S Main St  Brillion WI 54110
GEO:44.175351;-88.0645994
END:VEVENT
END:VCALENDAR