BEGIN:VCALENDAR
VERSION:2.0
PRODID:-//Tukios.com/
BEGIN:VEVENT
UID:ebb4b3d0-f927-4386-9d9b-75065fa6ff7e@www.pielhop.com
DTSTAMP:20260425T204618Z
DTSTART:20260430T220000Z
DTEND:20260501T010000Z
SUMMARY:Visitation
DESCRIPTION:
URL:https://www.pielhop.com/obituaries/william-bill-herdt
LOCATION: 215 S Main St  Brillion WI 54110
GEO:44.175351;-88.0645994
END:VEVENT
END:VCALENDAR