BEGIN:VCALENDAR
VERSION:2.0
PRODID:-//Tukios.com/
BEGIN:VEVENT
UID:9764d114-f977-4f13-a29c-d6eedc4a8bcb@www.pielhop.com
DTSTAMP:20260425T204618Z
DTSTART:20260501T140000Z
DTEND:20260501T160000Z
SUMMARY:Visitation
DESCRIPTION:
URL:https://www.pielhop.com/obituaries/william-bill-herdt
LOCATION:Pielhop Funeral Home 215 S Main St  Brillion WI 54110
GEO:44.175351;-88.0645994
END:VEVENT
END:VCALENDAR